BEGIN:VCALENDAR
VERSION:2.0
PRODID:-//Glen Gardner Women&#039;s Club - ECPv6.15.18//NONSGML v1.0//EN
CALSCALE:GREGORIAN
METHOD:PUBLISH
X-WR-CALNAME:Glen Gardner Women&#039;s Club
X-ORIGINAL-URL:https://glengardnerwomensclub.org
X-WR-CALDESC:Events for Glen Gardner Women&#039;s Club
REFRESH-INTERVAL;VALUE=DURATION:PT1H
X-Robots-Tag:noindex
X-PUBLISHED-TTL:PT1H
BEGIN:VTIMEZONE
TZID:UTC
BEGIN:STANDARD
TZOFFSETFROM:+0000
TZOFFSETTO:+0000
TZNAME:UTC
DTSTART:20220101T000000
END:STANDARD
END:VTIMEZONE
BEGIN:VEVENT
DTSTART;TZID=UTC:20230408T080000
DTEND;TZID=UTC:20230409T170000
DTSTAMP:20260420T041552
CREATED:20230403T103328Z
LAST-MODIFIED:20230407T143438Z
UID:797-1680940800-1681059600@glengardnerwomensclub.org
SUMMARY:Easter Flower Sale - Glen Gardner Fire Department
DESCRIPTION:Let’s support our Glen Gardner Fire Company.  They always have a beautiful selection of flowers for sale!
URL:https://glengardnerwomensclub.org/event/easter-flower-sale-glen-gardner-fire-department/
LOCATION:Glen Gardner Fire Department\, 2168 NJ 31\, Glen Gardner\, NJ
CATEGORIES:GGWC Community Event
END:VEVENT
END:VCALENDAR