BEGIN:VCALENDAR
VERSION:2.0
PRODID:-//Glen Gardner Women&#039;s Club - ECPv6.15.18//NONSGML v1.0//EN
CALSCALE:GREGORIAN
METHOD:PUBLISH
X-ORIGINAL-URL:https://glengardnerwomensclub.org
X-WR-CALDESC:Events for Glen Gardner Women&#039;s Club
REFRESH-INTERVAL;VALUE=DURATION:PT1H
X-Robots-Tag:noindex
X-PUBLISHED-TTL:PT1H
BEGIN:VTIMEZONE
TZID:UTC
BEGIN:STANDARD
TZOFFSETFROM:+0000
TZOFFSETTO:+0000
TZNAME:UTC
DTSTART:20230101T000000
END:STANDARD
END:VTIMEZONE
BEGIN:VEVENT
DTSTART;TZID=UTC:20241204T180000
DTEND;TZID=UTC:20241204T210000
DTSTAMP:20260418T221535
CREATED:20230419T163450Z
LAST-MODIFIED:20241022T111311Z
UID:1402-1733335200-1733346000@glengardnerwomensclub.org
SUMMARY:GGWC Holiday Dinner
DESCRIPTION:  \n 
URL:https://glengardnerwomensclub.org/event/love-a-veteran-trivia/
LOCATION:The Inn at Glen Gardner\, 161 Main Street\, Glen Gardner\, NJ\, 08826\, United States
END:VEVENT
BEGIN:VEVENT
DTSTART;TZID=UTC:20241208T120000
DTEND;TZID=UTC:20241208T150000
DTSTAMP:20260418T221535
CREATED:20240205T110725Z
LAST-MODIFIED:20241107T093715Z
UID:2160-1733659200-1733670000@glengardnerwomensclub.org
SUMMARY:Historical Home Tour
DESCRIPTION:https://www.eventbrite.com/e/the-glen-gardner-historical-christmas-house-tour-tickets-1071535424299?utm-campaign=social&utm-content=attendeeshare&utm-medium=discovery&utm-term=listing&utm-source=cp&aff=ebdsshcopyurl&fbclid=IwY2xjawGZaPRleHRuA2FlbQIxMAABHbxVuMJ8ecIOWm-pm-sJJ4fj8LD-vXp0KNHJNj3P1iroig_RRqJ1V5PVqA_aem_kGAP8PClCzqZ4FcwPt4wBQ
URL:https://glengardnerwomensclub.org/event/bingo-night-share-the-love-with-local-veterans/
LOCATION:Glen Gardner Borough Hall\, 83 Main Street\, Glen Gardner\, NJ\, 08826\, United States
CATEGORIES:GGWC Community Event
END:VEVENT
END:VCALENDAR